BEGIN:VCALENDAR
VERSION:2.0
PRODID:-//AudioTheme 3.0.2
BEGIN:VEVENT
UID:urn:uuid:a5451b39-8bdd-4d5b-8c95-3db66e36e332
URL:https://mekitribute.cz/shows/2024-08-31/
DTSTART;TZID=GMT:20240831T000000
SUMMARY:Vrchoslavice
DESCRIPTION:MEKI tribute a jeho koncert při příležitosti akce "Mikroregion Němčicko se baví!". 80 minut hitů! 
LOCATION:Vrchoslavice\, Sportovní areál Zámlyní\, Vrchoslavice\, Czech republic\, Česko\, 79827
END:VEVENT
END:VCALENDAR
